BEGIN:VCALENDAR
VERSION:2.0
PRODID:-//INTERCLINICAL LABORATORIES PTY LTD - ECPv6.15.17.1//NONSGML v1.0//EN
CALSCALE:GREGORIAN
METHOD:PUBLISH
X-ORIGINAL-URL:https://interclinical.com.au
X-WR-CALDESC:Events for INTERCLINICAL LABORATORIES PTY LTD
REFRESH-INTERVAL;VALUE=DURATION:PT1H
X-Robots-Tag:noindex
X-PUBLISHED-TTL:PT1H
BEGIN:VTIMEZONE
TZID:Australia/Melbourne
BEGIN:STANDARD
TZOFFSETFROM:+1100
TZOFFSETTO:+1000
TZNAME:AEST
DTSTART:20250405T160000
END:STANDARD
BEGIN:DAYLIGHT
TZOFFSETFROM:+1000
TZOFFSETTO:+1100
TZNAME:AEDT
DTSTART:20251004T160000
END:DAYLIGHT
BEGIN:STANDARD
TZOFFSETFROM:+1100
TZOFFSETTO:+1000
TZNAME:AEST
DTSTART:20260404T160000
END:STANDARD
BEGIN:DAYLIGHT
TZOFFSETFROM:+1000
TZOFFSETTO:+1100
TZNAME:AEDT
DTSTART:20261003T160000
END:DAYLIGHT
BEGIN:STANDARD
TZOFFSETFROM:+1100
TZOFFSETTO:+1000
TZNAME:AEST
DTSTART:20270403T160000
END:STANDARD
BEGIN:DAYLIGHT
TZOFFSETFROM:+1000
TZOFFSETTO:+1100
TZNAME:AEDT
DTSTART:20271002T160000
END:DAYLIGHT
END:VTIMEZONE
BEGIN:VEVENT
DTSTART;TZID=Australia/Melbourne:20260317T190000
DTEND;TZID=Australia/Melbourne:20260317T200000
DTSTAMP:20260420T032952
CREATED:20251201T025512Z
LAST-MODIFIED:20260111T235804Z
UID:20193-1773774000-1773777600@interclinical.com.au
SUMMARY:The GLP-1 (Ozempic) Era: Nutritional Safeguards and Mineral Balance
DESCRIPTION:Evening Two – The Changing Clinical Landscape in 2026: Understanding Challenges\, Shaping Solutions\n  \nWith GLP-1 agonists reshaping weight management and metabolic care\, nutritional risk is easy to overlook. We will examine how GLP-1 therapies alter appetite\, intake\, gastric emptying and nutrient absorption\, and why this can impact protein status\, micronutrients and key minerals. The session will outline pragmatic safeguards: baseline assessment\, monitoring\, and targeted nutritional and mineral support to help reduce adverse effects and protect long-term health while patients are on (or coming off) GLP-1 agents. \n  \nBook Now
URL:https://interclinical.com.au/event/the-changing-clinical-landscape-in-2026-understanding-challenges-shaping-solutions-2/
LOCATION:Online
ORGANIZER;CN="InterClinical Laboratories":MAILTO:info@interclinical.com.au
END:VEVENT
END:VCALENDAR