BEGIN:VCALENDAR
VERSION:2.0
PRODID:-//INTERCLINICAL LABORATORIES PTY LTD - ECPv6.15.17.1//NONSGML v1.0//EN
CALSCALE:GREGORIAN
METHOD:PUBLISH
X-ORIGINAL-URL:https://interclinical.com.au
X-WR-CALDESC:Events for INTERCLINICAL LABORATORIES PTY LTD
REFRESH-INTERVAL;VALUE=DURATION:PT1H
X-Robots-Tag:noindex
X-PUBLISHED-TTL:PT1H
BEGIN:VTIMEZONE
TZID:Australia/Melbourne
BEGIN:STANDARD
TZOFFSETFROM:+1100
TZOFFSETTO:+1000
TZNAME:AEST
DTSTART:20250405T160000
END:STANDARD
BEGIN:DAYLIGHT
TZOFFSETFROM:+1000
TZOFFSETTO:+1100
TZNAME:AEDT
DTSTART:20251004T160000
END:DAYLIGHT
BEGIN:STANDARD
TZOFFSETFROM:+1100
TZOFFSETTO:+1000
TZNAME:AEST
DTSTART:20260404T160000
END:STANDARD
BEGIN:DAYLIGHT
TZOFFSETFROM:+1000
TZOFFSETTO:+1100
TZNAME:AEDT
DTSTART:20261003T160000
END:DAYLIGHT
BEGIN:STANDARD
TZOFFSETFROM:+1100
TZOFFSETTO:+1000
TZNAME:AEST
DTSTART:20270403T160000
END:STANDARD
BEGIN:DAYLIGHT
TZOFFSETFROM:+1000
TZOFFSETTO:+1100
TZNAME:AEDT
DTSTART:20271002T160000
END:DAYLIGHT
END:VTIMEZONE
BEGIN:VEVENT
DTSTART;TZID=Australia/Melbourne:20260421T190000
DTEND;TZID=Australia/Melbourne:20260421T200000
DTSTAMP:20260420T033251
CREATED:20251201T030201Z
LAST-MODIFIED:20260112T000031Z
UID:20197-1776798000-1776801600@interclinical.com.au
SUMMARY:First\, Do No Harm: Toxic Burdens & Safer Detoxification in Clinical Practice
DESCRIPTION:Environmental toxicants\, heavy metals and modern “detox” trends are converging in clinic – and not always with good outcomes. This practitioner-focused session explores toxic burdens through a clinical safety lens avoiding redistribution\, crashes and nutrient depletion. Highlighting when to suspect accumulated load\, how mineral imbalances amplify vulnerability\, and why “replete → mobilise → bind → eliminate” is essential. Drawing on HTMA case studies and current evidence\, we’ll unpack practical frameworks for bio-individual detoxification therapies to safely reduce burdens and improve health. \n  \nBook Now
URL:https://interclinical.com.au/event/first-do-no-harm-toxic-burdens-safer-detoxification-in-clinical-practice/
LOCATION:Online
ORGANIZER;CN="InterClinical Laboratories":MAILTO:info@interclinical.com.au
END:VEVENT
END:VCALENDAR